BEGIN:VCALENDAR
VERSION:2.0
PRODID:-//Seesport digital - ECPv6.15.20//NONSGML v1.0//EN
CALSCALE:GREGORIAN
METHOD:PUBLISH
X-WR-CALNAME:Seesport digital
X-ORIGINAL-URL:https://seesport.digital
X-WR-CALDESC:Veranstaltungen für Seesport digital
REFRESH-INTERVAL;VALUE=DURATION:PT1H
X-Robots-Tag:noindex
X-PUBLISHED-TTL:PT1H
BEGIN:VTIMEZONE
TZID:Europe/Helsinki
BEGIN:DAYLIGHT
TZOFFSETFROM:+0200
TZOFFSETTO:+0300
TZNAME:EEST
DTSTART:20250330T010000
END:DAYLIGHT
BEGIN:STANDARD
TZOFFSETFROM:+0300
TZOFFSETTO:+0200
TZNAME:EET
DTSTART:20251026T010000
END:STANDARD
BEGIN:DAYLIGHT
TZOFFSETFROM:+0200
TZOFFSETTO:+0300
TZNAME:EEST
DTSTART:20260329T010000
END:DAYLIGHT
BEGIN:STANDARD
TZOFFSETFROM:+0300
TZOFFSETTO:+0200
TZNAME:EET
DTSTART:20261025T010000
END:STANDARD
BEGIN:DAYLIGHT
TZOFFSETFROM:+0200
TZOFFSETTO:+0300
TZNAME:EEST
DTSTART:20270328T010000
END:DAYLIGHT
BEGIN:STANDARD
TZOFFSETFROM:+0300
TZOFFSETTO:+0200
TZNAME:EET
DTSTART:20271031T010000
END:STANDARD
END:VTIMEZONE
BEGIN:VEVENT
DTSTART;VALUE=DATE:20260627
DTEND;VALUE=DATE:20260629
DTSTAMP:20260419T143927
CREATED:20260202T210435Z
LAST-MODIFIED:20260202T210435Z
UID:10000235-1782518400-1782691199@seesport.digital
SUMMARY:40. Oderpokal JMK und 11. offene LM Brandenburg
DESCRIPTION:AusschreibungAnmeldungGemeldete
URL:https://seesport.digital/event/40-oderpokal-jmk-und-11-offene-lm-brandenburg/
LOCATION:Seesportclub Schwedt/ Oder\, Am Holzhafen 11\, Schwedt/ Oder\, 16303
CATEGORIES:Wettkämpfe
ATTACH;FMTTYPE=image/jpeg:https://seesport.digital/wp-content/uploads/2024/12/Schwedt.jpg
ORGANIZER;CN="Seesportclub Schwedt/ Oder":MAILTO:info@seesportclub-schwedt.de
END:VEVENT
END:VCALENDAR